BEGIN:VCALENDAR
VERSION:2.0
PRODID:-//Library Market//iCal Export//EN
BEGIN:VEVENT
SUMMARY:Neighborhood Farmer&#039;s Market at the Health Department
UID:8649
DTSTAMP:20260423T203400Z
DTSTART:20260521T190000Z
DTEND:20260521T230000Z
LOCATION:Purchase District Health Department, 916 Kentucky Ave, Paducah, K
 Y 42003, United States
ROOM: Offsite Program
DESCRIPTION:Get ready for the Neighborhood Farmer&#039;s Market! It will b
 e every third Thursday of the month starting in May and going through Octo
 ber at the Paducah/McCracken County Health Center (behind the Health Depar
 tment).  The Library will be there with a craft!
URL:https://www.mclib.net/event/neighborhood-farmers-market-health-departm
 ent-8649
END:VEVENT
END:VCALENDAR
