BEGIN:VCALENDAR
VERSION:2.0
PRODID:-//Library Market//iCal Export//EN
BEGIN:VEVENT
SUMMARY:101  Series presents Revolutionary War in a Trunk 
UID:8464
DTSTAMP:20260422T164600Z
DTSTART:20260716T223000Z
DTEND:20260716T233000Z
LOCATION:555 Washington St, Paducah, KY 42003, United States
ROOM: Meeting Room
DESCRIPTION:Led by Geoff Baggett, Kentucky writer and Revolutionary War hi
 storian.McCracken County Public Library is pleased to bring you a hands-on
 , interactive program that is fun for all ages! Geoff Baggett, Kentucky wr
 iter and Revolutionary War historian, brings an old wooden trunk full of i
 nteresting items and military equipment from the Revolutionary War period.
  His presentation utilizes reproductions of 18th century weaponry, camp to
 ols and equipment, clothing, toys, personal hygiene items, and other every
 day necessities.  Baggett&#039;s trunk full of 18th century “treasures
  helps bring to life the reality of living on the Virginia and Kentucky 
 frontier in the 1770s, with glimpses into the lives of people who lived in
  the past. Geoff Baggett is a Kentucky author, historian, educator, and s
 peaker.  His area of interest and expertise is the American Revolution. 
  Geoff has authored over twenty works of historical fiction about the Amer
 ican Revolution and Colonial American period since beginning his writing c
 areer in 2015.  Eight of his works are epic novels written for an adult /
  young adult audience.  His other books are adventure stories for 10 to 1
 4-year-old students.  An avid living historian, Geoff appears regularly i
 n 18th Century attire in classrooms, reenactments, and at other Revolution
 ary War commemorative events throughout the southeastern and central Unite
 d States.This program is funded in part by the Kentucky Humanities and the
  National Endowment for the Humanities. All programs are free &amp; open 
 to the public 
URL:https://www.mclib.net/event/101-series-presents-revolutionary-war-trun
 k-8464
END:VEVENT
END:VCALENDAR
