BEGIN:VCALENDAR
VERSION:2.0
PRODID:-//Library Market//iCal Export//EN
BEGIN:VEVENT
SUMMARY:The Wellness Workshop
UID:8319
DTSTAMP:20260423T203400Z
DTSTART:20260601T223000Z
DTEND:20260601T233000Z
LOCATION:555 Washington St, Paducah, KY 42003, United States
ROOM: Meeting Room
DESCRIPTION:Self-care is better together! This monthly program invites you
  to gather, create, and connect while making simple self-care products to 
 support everyday well-being. You can start your week off right with a litt
 le self love! Slow down, breathe, and make something just for you. This pr
 ogram series will be the first Monday of each month from 5:30-6:30. This m
 onth&#039;s self love will be a lavender coconut milk bath! See you there!
URL:https://www.mclib.net/event/self-care-monday-8319
END:VEVENT
END:VCALENDAR
